BEGIN:VCALENDAR
VERSION:2.0
PRODID:-//Brandywine Zoo - ECPv6.15.20//NONSGML v1.0//EN
CALSCALE:GREGORIAN
METHOD:PUBLISH
X-WR-CALNAME:Brandywine Zoo
X-ORIGINAL-URL:https://brandywinezoo.org
X-WR-CALDESC:Events for Brandywine Zoo
REFRESH-INTERVAL;VALUE=DURATION:PT1H
X-Robots-Tag:noindex
X-PUBLISHED-TTL:PT1H
BEGIN:VTIMEZONE
TZID:UTC
BEGIN:STANDARD
TZOFFSETFROM:+0000
TZOFFSETTO:+0000
TZNAME:UTC
DTSTART:20250101T000000
END:STANDARD
END:VTIMEZONE
BEGIN:VEVENT
DTSTART;TZID=UTC:20260509T090000
DTEND;TZID=UTC:20260509T100000
DTSTAMP:20260421T110311
CREATED:20260421T080805Z
LAST-MODIFIED:20260421T080955Z
UID:36303-1778317200-1778320800@brandywinezoo.org
SUMMARY:Yoga at the Zoo
DESCRIPTION:Join us for yoga in the pavilion overlooking the lemurs at the Brandywine Zoo. This special event is a one hour All Levels Flow Yoga class in the semi-enclosed pavilion at the Brandywine Zoo. This event includes yoga and admission to the zoo!\n\nLEARN MORE
URL:https://brandywinezoo.org/event/pure-yoga-pilates-studio-and-brandywine-zoo/
LOCATION:Brandywine Zoo\, 1001 North Park Drive\, Wilmington\, DE\, 19802\, United States
CATEGORIES:Special Events
ATTACH;FMTTYPE=image/jpeg:https://brandywinezoo.org/wp-content/uploads/2023/06/yoga-at-the-zoo.jpg
END:VEVENT
END:VCALENDAR