BEGIN:VCALENDAR
VERSION:2.0
PRODID:-//Brandywine Zoo - ECPv6.15.20//NONSGML v1.0//EN
CALSCALE:GREGORIAN
METHOD:PUBLISH
X-WR-CALNAME:Brandywine Zoo
X-ORIGINAL-URL:https://brandywinezoo.org
X-WR-CALDESC:Events for Brandywine Zoo
REFRESH-INTERVAL;VALUE=DURATION:PT1H
X-Robots-Tag:noindex
X-PUBLISHED-TTL:PT1H
BEGIN:VTIMEZONE
TZID:UTC
BEGIN:STANDARD
TZOFFSETFROM:+0000
TZOFFSETTO:+0000
TZNAME:UTC
DTSTART:20250101T000000
END:STANDARD
END:VTIMEZONE
BEGIN:VEVENT
DTSTART;TZID=UTC:20260503T110000
DTEND;TZID=UTC:20260503T160000
DTSTAMP:20260422T120723
CREATED:20260422T085041Z
LAST-MODIFIED:20260422T090058Z
UID:36304-1777806000-1777824000@brandywinezoo.org
SUMMARY:Shadfest
DESCRIPTION:An annual celebration of the Brandywine River and return of the American Shad\, presented by the Brandywine River Restoration Trust. Join us for a day of environmental advocacy\, stewardship\, fun and festivities. Enjoy food & adult beverage vendors\, sustainable arts & crafts vendors\, fishing lessons & games for kids\, face/body painting\, music & fun. \nFREE ATTENDEE REGISTRATION
URL:https://brandywinezoo.org/event/shadfest/
LOCATION:Brandywine Park\, 1080 N. Park Dr\, Wilmington\, DE\, 19802\, United States
CATEGORIES:Family Program
ATTACH;FMTTYPE=image/png:https://brandywinezoo.org/wp-content/uploads/2026/04/logo-shadfest-small.png
ORGANIZER;CN="Brandywine River Restoration Trust":MAILTO:information@brrt.org
END:VEVENT
END:VCALENDAR