BEGIN:VCALENDAR
VERSION:2.0
PRODID:-//Brandywine Zoo - ECPv6.15.20//NONSGML v1.0//EN
CALSCALE:GREGORIAN
METHOD:PUBLISH
X-WR-CALNAME:Brandywine Zoo
X-ORIGINAL-URL:https://brandywinezoo.org
X-WR-CALDESC:Events for Brandywine Zoo
REFRESH-INTERVAL;VALUE=DURATION:PT1H
X-Robots-Tag:noindex
X-PUBLISHED-TTL:PT1H
BEGIN:VTIMEZONE
TZID:UTC
BEGIN:STANDARD
TZOFFSETFROM:+0000
TZOFFSETTO:+0000
TZNAME:UTC
DTSTART:20250101T000000
END:STANDARD
END:VTIMEZONE
BEGIN:VEVENT
DTSTART;TZID=UTC:20261022T170000
DTEND;TZID=UTC:20261022T193000
DTSTAMP:20260423T100718
CREATED:20260220T110755Z
LAST-MODIFIED:20260417T184543Z
UID:35193-1792688400-1792697400@brandywinezoo.org
SUMMARY:Sip & Stroll: Halloween-themed
DESCRIPTION:Sip & Stroll through the zoo at our family friendly happy hour series\, June through October. Each Sip will feature a local food vendor and live music\, along with adult beverages\, including craft beer and wine. Plus\, our concession stand will be open with snacks and soft drinks. \nLimited number of tickets will be sold. Drink and food purchases sold separately. Drink tickets ($6) and silicone cups can be purchased at the ticket window or snack bar. \nMembers: Adult $5\, Youth $3\nNon-members: Adults $10\, Youth $7\nAge 2 and under: Free \nLEARN MORE & BUY TICKETS
URL:https://brandywinezoo.org/event/sip-stroll-halloween-themed/
LOCATION:Brandywine Zoo\, 1001 North Park Drive\, Wilmington\, DE\, 19802\, United States
CATEGORIES:Family Program
ATTACH;FMTTYPE=image/jpeg:https://brandywinezoo.org/wp-content/uploads/2024/01/SS-Panda.jpg
ORGANIZER;CN="Brandywine Zoo":MAILTO:events@brandywinezoo.org
END:VEVENT
END:VCALENDAR