BEGIN:VCALENDAR
VERSION:2.0
PRODID:-//Brandywine Zoo - ECPv6.15.17//NONSGML v1.0//EN
CALSCALE:GREGORIAN
METHOD:PUBLISH
X-WR-CALNAME:Brandywine Zoo
X-ORIGINAL-URL:https://brandywinezoo.org
X-WR-CALDESC:Events for Brandywine Zoo
REFRESH-INTERVAL;VALUE=DURATION:PT1H
X-Robots-Tag:noindex
X-PUBLISHED-TTL:PT1H
BEGIN:VTIMEZONE
TZID:UTC
BEGIN:STANDARD
TZOFFSETFROM:+0000
TZOFFSETTO:+0000
TZNAME:UTC
DTSTART:20250101T000000
END:STANDARD
END:VTIMEZONE
BEGIN:VEVENT
DTSTART;TZID=UTC:20260515T130000
DTEND;TZID=UTC:20260515T160000
DTSTAMP:20260419T141219
CREATED:20260413T093020Z
LAST-MODIFIED:20260413T093020Z
UID:36250-1778850000-1778860800@brandywinezoo.org
SUMMARY:Zoo Closing at 1pm
DESCRIPTION:The Brandywine Zoo will close at 1pm today\, due to the Monkey Hill Time Trials. Last admission 12:30pm.
URL:https://brandywinezoo.org/event/zoo-closing-at-1pm/
LOCATION:Brandywine Zoo\, 1001 North Park Drive\, Wilmington\, DE\, 19802\, United States
CATEGORIES:Featured
ORGANIZER;CN="Brandywine Zoo":MAILTO:events@brandywinezoo.org
END:VEVENT
END:VCALENDAR