BEGIN:VCALENDAR
VERSION:2.0
PRODID:-//Brandywine Zoo - ECPv6.15.20//NONSGML v1.0//EN
CALSCALE:GREGORIAN
METHOD:PUBLISH
X-WR-CALNAME:Brandywine Zoo
X-ORIGINAL-URL:https://brandywinezoo.org
X-WR-CALDESC:Events for Brandywine Zoo
REFRESH-INTERVAL;VALUE=DURATION:PT1H
X-Robots-Tag:noindex
X-PUBLISHED-TTL:PT1H
BEGIN:VTIMEZONE
TZID:UTC
BEGIN:STANDARD
TZOFFSETFROM:+0000
TZOFFSETTO:+0000
TZNAME:UTC
DTSTART:20250101T000000
END:STANDARD
END:VTIMEZONE
BEGIN:VEVENT
DTSTART;TZID=UTC:20260422T100000
DTEND;TZID=UTC:20260422T130000
DTSTAMP:20260424T114607
CREATED:20260406T091325Z
LAST-MODIFIED:20260413T093309Z
UID:36221-1776852000-1776862800@brandywinezoo.org
SUMMARY:Earth Day Litter Clean-up
DESCRIPTION:Cleaning up the earth provides a reward in itself\, but earning a free cup of coffee too? Even better! Spend some time on Earth Day ridding the environment of problematic trash while choosing your own adventure through the neighborhood to Scout Cafe. Head to the zoo or Jefferson Street Center any time between 10a and 1p to start\, gather your supplies\, then decide on your route to the cafe. Spreading out will bring the most impact\, so try not to follow anyone else cleaning up. After turning in your trash\, enjoy a free drip coffee and feel good about what you’ve accomplished!
URL:https://brandywinezoo.org/event/earth-day-litter-clean-up/
LOCATION:Brandywine Zoo\, 1001 North Park Drive\, Wilmington\, DE\, 19802\, United States
CATEGORIES:Family Program
ATTACH;FMTTYPE=image/jpeg:https://brandywinezoo.org/wp-content/uploads/2026/04/Group-with-collected-litter.jpg
ORGANIZER;CN="Conservation Department":MAILTO:communityengagement@brandywinezoo.org
END:VEVENT
END:VCALENDAR