BEGIN:VCALENDAR
VERSION:2.0
PRODID:-//Brandywine Zoo - ECPv6.15.20//NONSGML v1.0//EN
CALSCALE:GREGORIAN
METHOD:PUBLISH
X-WR-CALNAME:Brandywine Zoo
X-ORIGINAL-URL:https://brandywinezoo.org
X-WR-CALDESC:Events for Brandywine Zoo
REFRESH-INTERVAL;VALUE=DURATION:PT1H
X-Robots-Tag:noindex
X-PUBLISHED-TTL:PT1H
BEGIN:VTIMEZONE
TZID:UTC
BEGIN:STANDARD
TZOFFSETFROM:+0000
TZOFFSETTO:+0000
TZNAME:UTC
DTSTART:20250101T000000
END:STANDARD
END:VTIMEZONE
BEGIN:VEVENT
DTSTART;TZID=UTC:20260111T103000
DTEND;TZID=UTC:20260111T110000
DTSTAMP:20260423T155119
CREATED:20251117T151551Z
LAST-MODIFIED:20251229T094741Z
UID:34910-1768127400-1768129200@brandywinezoo.org
SUMMARY:Storytime Series: Animals in Winter
DESCRIPTION:Join Zoo educators at our Education Building for a special Storytime series! Each week will feature a different storybook reading about animals in winter and corresponding activity\, such as a movement game\, craft\, or meeting an animal ambassador that lives behind the scenes. \n\n\n\n\nThis program is held on Sunday mornings at 10:30am in the Education Building across the street from the Zoo entrance. This program is designed for toddlers/preschool-aged children and their families. Each person attending requires a program ticket\, and children must be accompanied by an adult. Space is limited. \nTicket price: $5/person \nBUY TICKETS
URL:https://brandywinezoo.org/event/storytime-series-animals-in-winter/
LOCATION:Brandywine Zoo Education Building\, 1001 North Park Drive\, Wilmington\, DE\, 19802\, United States
CATEGORIES:Early Learners
ORGANIZER;CN="Brandywine Zoo Education Department":MAILTO:education@brandywinezoo.org
END:VEVENT
BEGIN:VEVENT
DTSTART;TZID=UTC:20260118T103000
DTEND;TZID=UTC:20260118T110000
DTSTAMP:20260423T155119
CREATED:20251117T151732Z
LAST-MODIFIED:20251117T151732Z
UID:34911-1768732200-1768734000@brandywinezoo.org
SUMMARY:Storytime Series: Animals in Winter
DESCRIPTION:Join Zoo educators at our Education Building for a special Storytime series! Each week will feature a different storybook reading about animals in winter and corresponding activity\, such as a movement game\, craft\, or meeting an animal ambassador that lives behind the scenes. \n\n\n\n\nThis program is held on Sunday mornings at 10:30am in the Education Building across the street from the Zoo entrance. This program is designed for toddlers/preschool-aged children and their families. Each person attending requires a program ticket\, and children must be accompanied by an adult. Space is limited. \nTicket price: $5/person \nBUY TICKETS
URL:https://brandywinezoo.org/event/storytime-series-animals-in-winter-2/
LOCATION:Brandywine Zoo Education Building\, 1001 North Park Drive\, Wilmington\, DE\, 19802\, United States
CATEGORIES:Early Learners
ORGANIZER;CN="Brandywine Zoo Education Department":MAILTO:education@brandywinezoo.org
END:VEVENT
BEGIN:VEVENT
DTSTART;TZID=UTC:20260125T103000
DTEND;TZID=UTC:20260125T110000
DTSTAMP:20260423T155119
CREATED:20251117T151828Z
LAST-MODIFIED:20251117T151828Z
UID:34912-1769337000-1769338800@brandywinezoo.org
SUMMARY:Storytime Series: Animals in Winter
DESCRIPTION:Join Zoo educators at our Education Building for a special Storytime series! Each week will feature a different storybook reading about animals in winter and corresponding activity\, such as a movement game\, craft\, or meeting an animal ambassador that lives behind the scenes. \n\n\n\n\nThis program is held on Sunday mornings at 10:30am in the Education Building across the street from the Zoo entrance. This program is designed for toddlers/preschool-aged children and their families. Each person attending requires a program ticket\, and children must be accompanied by an adult. Space is limited. \nTicket price: $5/person \nBUY TICKETS
URL:https://brandywinezoo.org/event/storytime-series-animals-in-winter-3/
LOCATION:Brandywine Zoo Education Building\, 1001 North Park Drive\, Wilmington\, DE\, 19802\, United States
CATEGORIES:Early Learners
ORGANIZER;CN="Brandywine Zoo Education Department":MAILTO:education@brandywinezoo.org
END:VEVENT
END:VCALENDAR