BEGIN:VCALENDAR
VERSION:2.0
PRODID:-//Brandywine Zoo - ECPv6.15.20//NONSGML v1.0//EN
CALSCALE:GREGORIAN
METHOD:PUBLISH
X-WR-CALNAME:Brandywine Zoo
X-ORIGINAL-URL:https://brandywinezoo.org
X-WR-CALDESC:Events for Brandywine Zoo
REFRESH-INTERVAL;VALUE=DURATION:PT1H
X-Robots-Tag:noindex
X-PUBLISHED-TTL:PT1H
BEGIN:VTIMEZONE
TZID:UTC
BEGIN:STANDARD
TZOFFSETFROM:+0000
TZOFFSETTO:+0000
TZNAME:UTC
DTSTART:20250101T000000
END:STANDARD
END:VTIMEZONE
BEGIN:VEVENT
DTSTART;TZID=UTC:20260301T100000
DTEND;TZID=UTC:20260301T150000
DTSTAMP:20260424T145518
CREATED:20260217T105554Z
LAST-MODIFIED:20260227T093908Z
UID:35179-1772359200-1772377200@brandywinezoo.org
SUMMARY:Spring Kick off
DESCRIPTION:Join us while we kick off our spring season! We’re celebrating with zoo trivia for kids\, a self-guided scavenger hunt\, keeper talks\, a raffle\, and more! This event is included with regular zoo admission price. \nReduced admission fee: $5/person adults\, $4/person seniors and $3/person youth.
URL:https://brandywinezoo.org/event/spring-kick-off/
LOCATION:Brandywine Zoo\, 1001 North Park Drive\, Wilmington\, DE\, 19802\, United States
CATEGORIES:Family Program
ATTACH;FMTTYPE=image/jpeg:https://brandywinezoo.org/wp-content/uploads/2021/11/visit-family-2.jpg
ORGANIZER;CN="Brandywine Zoo Education Department":MAILTO:education@brandywinezoo.org
END:VEVENT
END:VCALENDAR