BEGIN:VCALENDAR
VERSION:2.0
PRODID:-//Brandywine Zoo - ECPv6.15.20//NONSGML v1.0//EN
CALSCALE:GREGORIAN
METHOD:PUBLISH
X-WR-CALNAME:Brandywine Zoo
X-ORIGINAL-URL:https://brandywinezoo.org
X-WR-CALDESC:Events for Brandywine Zoo
REFRESH-INTERVAL;VALUE=DURATION:PT1H
X-Robots-Tag:noindex
X-PUBLISHED-TTL:PT1H
BEGIN:VTIMEZONE
TZID:UTC
BEGIN:STANDARD
TZOFFSETFROM:+0000
TZOFFSETTO:+0000
TZNAME:UTC
DTSTART:20250101T000000
END:STANDARD
END:VTIMEZONE
BEGIN:VEVENT
DTSTART;TZID=UTC:20260122T173000
DTEND;TZID=UTC:20260122T190000
DTSTAMP:20260423T104015
CREATED:20251216T161110Z
LAST-MODIFIED:20251216T161110Z
UID:34981-1769103000-1769108400@brandywinezoo.org
SUMMARY:Member Gathering & Annual Report
DESCRIPTION:You are invited to learn about the behind-the-scenes activities and future plans for the Zoo from leaders of the Delaware Zoological Society\, the non-profit that supports the mission of the Brandywine Zoo\, and leaders of the Brandywine Zoo. After a half hour of speakers\, there will be questions from attendees and discussions. \nLight refreshments will be served. The program is geared to adults. There are no activities planned for children\, but they are welcome to attend. \nThe event is free\, but attendees must register in advance. \nREGISTER
URL:https://brandywinezoo.org/event/member-gathering-annual-report/
LOCATION:Blue Ball Barn\, 1914 West Park Drive\, Wilmington\, DE\, 19803\, United States
CATEGORIES:Special Events
ATTACH;FMTTYPE=image/png:https://brandywinezoo.org/wp-content/uploads/2025/01/blue-ball-barn.png
ORGANIZER;CN="Brandywine Zoo":MAILTO:events@brandywinezoo.org
END:VEVENT
END:VCALENDAR